BEGIN:VCALENDAR
VERSION:2.0
METHOD:PUBLISH
PRODID:-//Agenda.ad//NONSGML v1.0//EN
BEGIN:VEVENT
CLASS:PUBLIC
UID:08c0dee6253b08467da14636f5a0604f@agenda.ad
DTSTAMP:20260419T190514Z
DTSTART:20260309T230000Z
DTEND:20260309T230000Z
SUMMARY:<span lang="FR">Cicle de<span class="apple-converted-space">&nbsp;</span>pel&middot;l&iacute;cules<span class="apple-converted-space">&nbsp;</span>de l'Alian&ccedil;a Andorrano-francesa 'L'affaire Bojarski'</span>
DESCRIPTION:\n\nMés informació\nhttps://www.agenda.ad/activitat/escald
 es-engordany/cinema/cicle-de pellicules de-l-alianca-andor
 rano-francesa-l-affaire-bojarski-\n(+376) 662 766 (+376) 839
  320\n\nOrganitza\nAliança Andorrano-Francesa
LOCATION:Cinemes Illa Carlemany
SEQUENCE:0
TRANSP:OPAQUE
X-ALT-DESC;FMTTYPE=text/html:<!DOCTYPE HTML PUBLIC "-//W3C//DTD HTML 3.2//EN"><HTML><HEAD
 ><TITLE></TITLE></HEAD><BODY><FONT FACE="Arial" SIZE=2><br/>
 <br/><b>Més informació</b><br/><a href="https://www.agenda
 .ad/activitat/escaldes-engordany/cinema/cicle-de pellicules
  de-l-alianca-andorrano-francesa-l-affaire-bojarski-">https
 ://www.agenda.ad/activitat/escaldes-engordany/cinema/cicle-d
 e pellicules de-l-alianca-andorrano-francesa-l-affaire-boj
 arski-</a><br/>(+376) 662 766 (+376) 839 320<br/><br/><b>Org
 anitza</b><br/>Aliança Andorrano-Francesa</FONT></BODY></HT
 ML>
END:VEVENT
END:VCALENDAR